BEGIN:VCALENDAR
VERSION:2.0
PRODID:-//Shishukunj - ECPv5.12.2//NONSGML v1.0//EN
CALSCALE:GREGORIAN
METHOD:PUBLISH
X-WR-CALNAME:Shishukunj
X-ORIGINAL-URL:https://www.shishukunj.in/jhalaria-campus
X-WR-CALDESC:Events for Shishukunj
BEGIN:VTIMEZONE
TZID:Asia/Kolkata
BEGIN:STANDARD
TZOFFSETFROM:+0530
TZOFFSETTO:+0530
TZNAME:IST
DTSTART:20260101T000000
END:STANDARD
END:VTIMEZONE
BEGIN:VEVENT
DTSTART;VALUE=DATE:20260228
DTEND;VALUE=DATE:20260301
DTSTAMP:20260422T122744
CREATED:20250726T082636Z
LAST-MODIFIED:20250726T082636Z
UID:23888-1772236800-1772323199@www.shishukunj.in
SUMMARY:Final Exam Classes VI - VIII
DESCRIPTION:
URL:https://www.shishukunj.in/jhalaria-campus/event/final-exam-classes-vi-viii-5/
CATEGORIES:Calendar
END:VEVENT
END:VCALENDAR