BEGIN:VCALENDAR
VERSION:2.0
PRODID:-//Shishukunj - ECPv5.12.2//NONSGML v1.0//EN
CALSCALE:GREGORIAN
METHOD:PUBLISH
X-WR-CALNAME:Shishukunj
X-ORIGINAL-URL:https://www.shishukunj.in/jhalaria-campus
X-WR-CALDESC:Events for Shishukunj
BEGIN:VTIMEZONE
TZID:UTC
BEGIN:STANDARD
TZOFFSETFROM:+0000
TZOFFSETTO:+0000
TZNAME:UTC
DTSTART:20170101T000000
END:STANDARD
END:VTIMEZONE
BEGIN:VEVENT
DTSTART;TZID=UTC:20170815T080000
DTEND;TZID=UTC:20170815T170000
DTSTAMP:20260425T093731
CREATED:20190916T011439Z
LAST-MODIFIED:20190916T011439Z
UID:3696-1502784000-1502816400@www.shishukunj.in
SUMMARY:Folk Song Competition Classes VI - XII
DESCRIPTION:Folk Song Competition Classes VI – XII
URL:https://www.shishukunj.in/jhalaria-campus/event/folk-song-competition-classes-vi-xii/
CATEGORIES:Calendar
END:VEVENT
END:VCALENDAR