BEGIN:VCALENDAR
VERSION:2.0
PRODID:-//Shishukunj - ECPv5.12.2//NONSGML v1.0//EN
CALSCALE:GREGORIAN
METHOD:PUBLISH
X-WR-CALNAME:Shishukunj
X-ORIGINAL-URL:https://www.shishukunj.in/jhalaria-campus
X-WR-CALDESC:Events for Shishukunj
BEGIN:VTIMEZONE
TZID:UTC
BEGIN:STANDARD
TZOFFSETFROM:+0000
TZOFFSETTO:+0000
TZNAME:UTC
DTSTART:20180101T000000
END:STANDARD
END:VTIMEZONE
BEGIN:VEVENT
DTSTART;TZID=UTC:20181004T080000
DTEND;TZID=UTC:20181004T170000
DTSTAMP:20260424T111150
CREATED:20190916T062125Z
LAST-MODIFIED:20190916T062125Z
UID:4009-1538640000-1538672400@www.shishukunj.in
SUMMARY:International English Olympiad (VI-XII)
DESCRIPTION:International English Olympiad (VI-XII)
URL:https://www.shishukunj.in/jhalaria-campus/event/international-english-olympiad-vi-xii/
CATEGORIES:Calendar
END:VEVENT
END:VCALENDAR