BEGIN:VCALENDAR
VERSION:2.0
PRODID:-//Shishukunj - ECPv5.12.2//NONSGML v1.0//EN
CALSCALE:GREGORIAN
METHOD:PUBLISH
X-WR-CALNAME:Shishukunj
X-ORIGINAL-URL:https://www.shishukunj.in/jhalaria-campus
X-WR-CALDESC:Events for Shishukunj
BEGIN:VTIMEZONE
TZID:UTC
BEGIN:STANDARD
TZOFFSETFROM:+0000
TZOFFSETTO:+0000
TZNAME:UTC
DTSTART:20160101T000000
END:STANDARD
END:VTIMEZONE
BEGIN:VEVENT
DTSTART;TZID=UTC:20160620T080000
DTEND;TZID=UTC:20160625T170000
DTSTAMP:20260426T084934
CREATED:20190913T054634Z
LAST-MODIFIED:20190913T054634Z
UID:3484-1466409600-1466874000@www.shishukunj.in
SUMMARY:First Major Assessment for Class XI & XII
DESCRIPTION:First Major Assessment for Class XI & XII
URL:https://www.shishukunj.in/jhalaria-campus/event/first-major-assessment-for-class-xi-xii/
CATEGORIES:Calendar
END:VEVENT
END:VCALENDAR