BEGIN:VCALENDAR
VERSION:2.0
PRODID:-//Shishukunj - ECPv5.12.2//NONSGML v1.0//EN
CALSCALE:GREGORIAN
METHOD:PUBLISH
X-WR-CALNAME:Shishukunj
X-ORIGINAL-URL:https://www.shishukunj.in/jhalaria-campus
X-WR-CALDESC:Events for Shishukunj
BEGIN:VTIMEZONE
TZID:UTC
BEGIN:STANDARD
TZOFFSETFROM:+0000
TZOFFSETTO:+0000
TZNAME:UTC
DTSTART:20160101T000000
END:STANDARD
END:VTIMEZONE
BEGIN:VEVENT
DTSTART;TZID=UTC:20160701T080000
DTEND;TZID=UTC:20160701T170000
DTSTAMP:20260426T071322
CREATED:20190913T055406Z
LAST-MODIFIED:20190913T055406Z
UID:3490-1467360000-1467392400@www.shishukunj.in
SUMMARY:General Knowledge Quiz - Classes IX - XII
DESCRIPTION:General Knowledge Quiz – Classes IX – XII
URL:https://www.shishukunj.in/jhalaria-campus/event/general-knowledge-quiz-classes-ix-xii/
CATEGORIES:Calendar
END:VEVENT
BEGIN:VEVENT
DTSTART;TZID=UTC:20160701T080000
DTEND;TZID=UTC:20160701T170000
DTSTAMP:20260426T071322
CREATED:20190913T055440Z
LAST-MODIFIED:20190913T055440Z
UID:3492-1467360000-1467392400@www.shishukunj.in
SUMMARY:Hindi Nukkad Natak -Classes VI- VIII
DESCRIPTION:Hindi Nukkad Natak -Classes VI- VIII
URL:https://www.shishukunj.in/jhalaria-campus/event/hindi-nukkad-natak-classes-vi-viii/
CATEGORIES:Calendar
END:VEVENT
END:VCALENDAR