BEGIN:VCALENDAR
VERSION:2.0
PRODID:-//Shishukunj - ECPv5.12.2//NONSGML v1.0//EN
CALSCALE:GREGORIAN
METHOD:PUBLISH
X-WR-CALNAME:Shishukunj
X-ORIGINAL-URL:https://www.shishukunj.in/jhalaria-campus
X-WR-CALDESC:Events for Shishukunj
BEGIN:VTIMEZONE
TZID:UTC
BEGIN:STANDARD
TZOFFSETFROM:+0000
TZOFFSETTO:+0000
TZNAME:UTC
DTSTART:20160101T000000
END:STANDARD
END:VTIMEZONE
BEGIN:VEVENT
DTSTART;TZID=UTC:20160711T080000
DTEND;TZID=UTC:20160716T170000
DTSTAMP:20260426T085047
CREATED:20190913T060042Z
LAST-MODIFIED:20190913T060042Z
UID:3498-1468224000-1468688400@www.shishukunj.in
SUMMARY:Mid Term I for Classes VI - X
DESCRIPTION:Mid Term I for Classes VI – X
URL:https://www.shishukunj.in/jhalaria-campus/event/mid-term-i-for-classes-vi-x/
CATEGORIES:Calendar
END:VEVENT
END:VCALENDAR