BEGIN:VCALENDAR
VERSION:2.0
PRODID:-//Shishukunj - ECPv5.12.2//NONSGML v1.0//EN
CALSCALE:GREGORIAN
METHOD:PUBLISH
X-WR-CALNAME:Shishukunj
X-ORIGINAL-URL:https://www.shishukunj.in/jhalaria-campus
X-WR-CALDESC:Events for Shishukunj
BEGIN:VTIMEZONE
TZID:UTC
BEGIN:STANDARD
TZOFFSETFROM:+0000
TZOFFSETTO:+0000
TZNAME:UTC
DTSTART:20160101T000000
END:STANDARD
END:VTIMEZONE
BEGIN:VEVENT
DTSTART;TZID=UTC:20160914T080000
DTEND;TZID=UTC:20160915T170000
DTSTAMP:20260426T041056
CREATED:20190913T061927Z
LAST-MODIFIED:20190913T061927Z
UID:3519-1473840000-1473958800@www.shishukunj.in
SUMMARY:SA I French / Sanskrit / Computer for Classes VI to VIII
DESCRIPTION:SA I French / Sanskrit / Computer for Classes VI to VIII
URL:https://www.shishukunj.in/jhalaria-campus/event/sa-i-french-sanskrit-computer-for-classes-vi-to-viii/
CATEGORIES:Calendar
END:VEVENT
END:VCALENDAR