BEGIN:VCALENDAR
VERSION:2.0
PRODID:-//Shishukunj - ECPv5.12.2//NONSGML v1.0//EN
CALSCALE:GREGORIAN
METHOD:PUBLISH
X-WR-CALNAME:Shishukunj
X-ORIGINAL-URL:https://www.shishukunj.in/jhalaria-campus
X-WR-CALDESC:Events for Shishukunj
BEGIN:VTIMEZONE
TZID:UTC
BEGIN:STANDARD
TZOFFSETFROM:+0000
TZOFFSETTO:+0000
TZNAME:UTC
DTSTART:20160101T000000
END:STANDARD
END:VTIMEZONE
BEGIN:VEVENT
DTSTART;VALUE=DATE:20160917
DTEND;VALUE=DATE:20160928
DTSTAMP:20260426T040330
CREATED:20190913T062220Z
LAST-MODIFIED:20190913T062220Z
UID:3523-1474070400-1475020799@www.shishukunj.in
SUMMARY:SA I for Classes VI to X
DESCRIPTION:SA I for Classes VI to X
URL:https://www.shishukunj.in/jhalaria-campus/event/sa-i-for-classes-vi-to-x/
CATEGORIES:Calendar
END:VEVENT
END:VCALENDAR