BEGIN:VCALENDAR
VERSION:2.0
PRODID:-//Shishukunj - ECPv5.12.2//NONSGML v1.0//EN
CALSCALE:GREGORIAN
METHOD:PUBLISH
X-WR-CALNAME:Shishukunj
X-ORIGINAL-URL:https://www.shishukunj.in/jhalaria-campus
X-WR-CALDESC:Events for Shishukunj
BEGIN:VTIMEZONE
TZID:UTC
BEGIN:STANDARD
TZOFFSETFROM:+0000
TZOFFSETTO:+0000
TZNAME:UTC
DTSTART:20160101T000000
END:STANDARD
END:VTIMEZONE
BEGIN:VEVENT
DTSTART;TZID=UTC:20161212T080000
DTEND;TZID=UTC:20161212T170000
DTSTAMP:20260426T005859
CREATED:20190913T075125Z
LAST-MODIFIED:20190913T075125Z
UID:3570-1481529600-1481562000@www.shishukunj.in
SUMMARY:Milad Un Nabi
DESCRIPTION:Milad Un Nabi
URL:https://www.shishukunj.in/jhalaria-campus/event/milad-un-nabi-2/
CATEGORIES:Calendar
END:VEVENT
END:VCALENDAR