BEGIN:VCALENDAR
VERSION:2.0
PRODID:-//Shishukunj - ECPv5.12.2//NONSGML v1.0//EN
CALSCALE:GREGORIAN
METHOD:PUBLISH
X-WR-CALNAME:Shishukunj
X-ORIGINAL-URL:https://www.shishukunj.in/jhalaria-campus
X-WR-CALDESC:Events for Shishukunj
BEGIN:VTIMEZONE
TZID:UTC
BEGIN:STANDARD
TZOFFSETFROM:+0000
TZOFFSETTO:+0000
TZNAME:UTC
DTSTART:20170101T000000
END:STANDARD
END:VTIMEZONE
BEGIN:VEVENT
DTSTART;TZID=UTC:20170112T080000
DTEND;TZID=UTC:20170112T170000
DTSTAMP:20260425T214554
CREATED:20190913T082033Z
LAST-MODIFIED:20190913T082033Z
UID:3586-1484208000-1484240400@www.shishukunj.in
SUMMARY:* Class XI Final Practical Examination Begins
DESCRIPTION:* Class XI Final Practical Examination Begins
URL:https://www.shishukunj.in/jhalaria-campus/event/class-xi-final-practical-examination-begins/
CATEGORIES:Calendar
END:VEVENT
BEGIN:VEVENT
DTSTART;TZID=UTC:20170112T080000
DTEND;TZID=UTC:20170112T170000
DTSTAMP:20260425T214554
CREATED:20190913T082137Z
LAST-MODIFIED:20190913T082137Z
UID:3588-1484208000-1484240400@www.shishukunj.in
SUMMARY:* Mid Term II for Classes VI to X Concludes
DESCRIPTION:* Mid Term II for Classes VI to X Concludes
URL:https://www.shishukunj.in/jhalaria-campus/event/mid-term-ii-for-classes-vi-to-x-concludes/
CATEGORIES:Calendar
END:VEVENT
END:VCALENDAR