BEGIN:VCALENDAR
VERSION:2.0
PRODID:-//Shishukunj - ECPv5.12.2//NONSGML v1.0//EN
CALSCALE:GREGORIAN
METHOD:PUBLISH
X-WR-CALNAME:Shishukunj
X-ORIGINAL-URL:https://www.shishukunj.in/jhalaria-campus
X-WR-CALDESC:Events for Shishukunj
BEGIN:VTIMEZONE
TZID:UTC
BEGIN:STANDARD
TZOFFSETFROM:+0000
TZOFFSETTO:+0000
TZNAME:UTC
DTSTART:20170101T000000
END:STANDARD
END:VTIMEZONE
BEGIN:VEVENT
DTSTART;TZID=UTC:20170116T080000
DTEND;TZID=UTC:20170116T170000
DTSTAMP:20260425T214530
CREATED:20190913T082312Z
LAST-MODIFIED:20190913T082312Z
UID:3592-1484553600-1484586000@www.shishukunj.in
SUMMARY:* Class XI Final Practical Examination Concludes
DESCRIPTION:* Class XI Final Practical Examination Concludes
URL:https://www.shishukunj.in/jhalaria-campus/event/class-xi-final-practical-examination-concludes/
CATEGORIES:Calendar
END:VEVENT
END:VCALENDAR