BEGIN:VCALENDAR
VERSION:2.0
PRODID:-//Shishukunj - ECPv5.12.2//NONSGML v1.0//EN
CALSCALE:GREGORIAN
METHOD:PUBLISH
X-WR-CALNAME:Shishukunj
X-ORIGINAL-URL:https://www.shishukunj.in/jhalaria-campus
X-WR-CALDESC:Events for Shishukunj
BEGIN:VTIMEZONE
TZID:UTC
BEGIN:STANDARD
TZOFFSETFROM:+0000
TZOFFSETTO:+0000
TZNAME:UTC
DTSTART:20170101T000000
END:STANDARD
END:VTIMEZONE
BEGIN:VEVENT
DTSTART;TZID=UTC:20170119T080000
DTEND;TZID=UTC:20170119T170000
DTSTAMP:20260425T214557
CREATED:20190913T082440Z
LAST-MODIFIED:20190913T082440Z
UID:3594-1484812800-1484845200@www.shishukunj.in
SUMMARY:International English Olympaid
DESCRIPTION:International English Olympaid
URL:https://www.shishukunj.in/jhalaria-campus/event/international-english-olympaid/
CATEGORIES:Calendar
END:VEVENT
END:VCALENDAR