BEGIN:VCALENDAR
VERSION:2.0
PRODID:-//Shishukunj - ECPv5.12.2//NONSGML v1.0//EN
CALSCALE:GREGORIAN
METHOD:PUBLISH
X-WR-CALNAME:Shishukunj
X-ORIGINAL-URL:https://www.shishukunj.in/jhalaria-campus
X-WR-CALDESC:Events for Shishukunj
BEGIN:VTIMEZONE
TZID:UTC
BEGIN:STANDARD
TZOFFSETFROM:+0000
TZOFFSETTO:+0000
TZNAME:UTC
DTSTART:20170101T000000
END:STANDARD
END:VTIMEZONE
BEGIN:VEVENT
DTSTART;TZID=UTC:20170123T080000
DTEND;TZID=UTC:20170123T170000
DTSTAMP:20260425T214556
CREATED:20190913T082632Z
LAST-MODIFIED:20190913T082632Z
UID:3598-1485158400-1485190800@www.shishukunj.in
SUMMARY:ASSET for Class VI - X
DESCRIPTION:ASSET for Class VI – X
URL:https://www.shishukunj.in/jhalaria-campus/event/asset-for-class-vi-x-3/
CATEGORIES:Calendar
END:VEVENT
END:VCALENDAR