BEGIN:VCALENDAR
VERSION:2.0
PRODID:-//Shishukunj - ECPv5.12.2//NONSGML v1.0//EN
CALSCALE:GREGORIAN
METHOD:PUBLISH
X-WR-CALNAME:Shishukunj
X-ORIGINAL-URL:https://www.shishukunj.in/jhalaria-campus
X-WR-CALDESC:Events for Shishukunj
BEGIN:VTIMEZONE
TZID:UTC
BEGIN:STANDARD
TZOFFSETFROM:+0000
TZOFFSETTO:+0000
TZNAME:UTC
DTSTART:20170101T000000
END:STANDARD
END:VTIMEZONE
BEGIN:VEVENT
DTSTART;TZID=UTC:20170124T080000
DTEND;TZID=UTC:20170124T170000
DTSTAMP:20260425T214531
CREATED:20190913T082734Z
LAST-MODIFIED:20190913T082734Z
UID:3600-1485244800-1485277200@www.shishukunj.in
SUMMARY:NSTSE
DESCRIPTION:NSTSE
URL:https://www.shishukunj.in/jhalaria-campus/event/nstse/
CATEGORIES:Calendar
END:VEVENT
END:VCALENDAR