BEGIN:VCALENDAR
VERSION:2.0
PRODID:-//Shishukunj - ECPv5.12.2//NONSGML v1.0//EN
CALSCALE:GREGORIAN
METHOD:PUBLISH
X-WR-CALNAME:Shishukunj
X-ORIGINAL-URL:https://www.shishukunj.in/jhalaria-campus
X-WR-CALDESC:Events for Shishukunj
BEGIN:VTIMEZONE
TZID:UTC
BEGIN:STANDARD
TZOFFSETFROM:+0000
TZOFFSETTO:+0000
TZNAME:UTC
DTSTART:20170101T000000
END:STANDARD
END:VTIMEZONE
BEGIN:VEVENT
DTSTART;TZID=UTC:20170220T080000
DTEND;TZID=UTC:20170220T170000
DTSTAMP:20260425T195810
CREATED:20190913T084407Z
LAST-MODIFIED:20190913T084407Z
UID:3616-1487577600-1487610000@www.shishukunj.in
SUMMARY:* SA II for Classes VI to VIII Begins
DESCRIPTION:* SA II for Classes VI to VIII Begins
URL:https://www.shishukunj.in/jhalaria-campus/event/sa-ii-for-classes-vi-to-viii-begins/
CATEGORIES:Calendar
END:VEVENT
END:VCALENDAR