BEGIN:VCALENDAR
VERSION:2.0
PRODID:-//Shishukunj - ECPv5.12.2//NONSGML v1.0//EN
CALSCALE:GREGORIAN
METHOD:PUBLISH
X-WR-CALNAME:Shishukunj
X-ORIGINAL-URL:https://www.shishukunj.in/jhalaria-campus
X-WR-CALDESC:Events for Shishukunj
BEGIN:VTIMEZONE
TZID:UTC
BEGIN:STANDARD
TZOFFSETFROM:+0000
TZOFFSETTO:+0000
TZNAME:UTC
DTSTART:20170101T000000
END:STANDARD
END:VTIMEZONE
BEGIN:VEVENT
DTSTART;TZID=UTC:20170303T080000
DTEND;TZID=UTC:20170314T170000
DTSTAMP:20260425T182032
CREATED:20190915T235131Z
LAST-MODIFIED:20190915T235131Z
UID:3625-1488528000-1489510800@www.shishukunj.in
SUMMARY:Holidays for Classes VI - VIII
DESCRIPTION:Holidays for Classes VI – VIII
URL:https://www.shishukunj.in/jhalaria-campus/event/holidays-for-classes-vi-viii/
CATEGORIES:Calendar
END:VEVENT
END:VCALENDAR