BEGIN:VCALENDAR
VERSION:2.0
PRODID:-//Shishukunj - ECPv5.12.2//NONSGML v1.0//EN
CALSCALE:GREGORIAN
METHOD:PUBLISH
X-WR-CALNAME:Shishukunj
X-ORIGINAL-URL:https://www.shishukunj.in/jhalaria-campus
X-WR-CALDESC:Events for Shishukunj
BEGIN:VTIMEZONE
TZID:UTC
BEGIN:STANDARD
TZOFFSETFROM:+0000
TZOFFSETTO:+0000
TZNAME:UTC
DTSTART:20170101T000000
END:STANDARD
END:VTIMEZONE
BEGIN:VEVENT
DTSTART;TZID=UTC:20170316T080000
DTEND;TZID=UTC:20170316T170000
DTSTAMP:20260425T182020
CREATED:20190916T000608Z
LAST-MODIFIED:20190916T000608Z
UID:3636-1489651200-1489683600@www.shishukunj.in
SUMMARY:Holiday for Classes VI & VII A\, B\, C
DESCRIPTION:Holiday for Classes VI & VII A\, B\, C
URL:https://www.shishukunj.in/jhalaria-campus/event/holiday-for-classes-vi-vii-a-b-c/
CATEGORIES:Calendar
END:VEVENT
BEGIN:VEVENT
DTSTART;TZID=UTC:20170316T080000
DTEND;TZID=UTC:20170316T170000
DTSTAMP:20260425T182020
CREATED:20190916T000654Z
LAST-MODIFIED:20190916T000654Z
UID:3638-1489651200-1489683600@www.shishukunj.in
SUMMARY:Showing of Answer Scripts to Parents for Classes VII D\, E\, F\, G and VIII
DESCRIPTION:Showing of Answer Scripts to Parents for Classes VII D\, E\, F\, G and VIII
URL:https://www.shishukunj.in/jhalaria-campus/event/showing-of-answer-scripts-to-parents-for-classes-vii-d-e-f-g-and-viii/
CATEGORIES:Calendar
END:VEVENT
END:VCALENDAR