BEGIN:VCALENDAR
VERSION:2.0
PRODID:-//Shishukunj - ECPv5.12.2//NONSGML v1.0//EN
CALSCALE:GREGORIAN
METHOD:PUBLISH
X-WR-CALNAME:Shishukunj
X-ORIGINAL-URL:https://www.shishukunj.in/jhalaria-campus
X-WR-CALDESC:Events for Shishukunj
BEGIN:VTIMEZONE
TZID:UTC
BEGIN:STANDARD
TZOFFSETFROM:+0000
TZOFFSETTO:+0000
TZNAME:UTC
DTSTART:20170101T000000
END:STANDARD
END:VTIMEZONE
BEGIN:VEVENT
DTSTART;TZID=UTC:20170329T080000
DTEND;TZID=UTC:20170329T170000
DTSTAMP:20260425T163156
CREATED:20190916T002321Z
LAST-MODIFIED:20190916T002321Z
UID:3652-1490774400-1490806800@www.shishukunj.in
SUMMARY:* New Session for Class VI
DESCRIPTION:* New Session for Class VI
URL:https://www.shishukunj.in/jhalaria-campus/event/new-session-for-class-vi-2/
CATEGORIES:Calendar
END:VEVENT
END:VCALENDAR