BEGIN:VCALENDAR
VERSION:2.0
PRODID:-//Shishukunj - ECPv5.12.2//NONSGML v1.0//EN
CALSCALE:GREGORIAN
METHOD:PUBLISH
X-WR-CALNAME:Shishukunj
X-ORIGINAL-URL:https://www.shishukunj.in/jhalaria-campus
X-WR-CALDESC:Events for Shishukunj
BEGIN:VTIMEZONE
TZID:UTC
BEGIN:STANDARD
TZOFFSETFROM:+0000
TZOFFSETTO:+0000
TZNAME:UTC
DTSTART:20170101T000000
END:STANDARD
END:VTIMEZONE
BEGIN:VEVENT
DTSTART;TZID=UTC:20170804T080000
DTEND;TZID=UTC:20170804T170000
DTSTAMP:20260425T093420
CREATED:20190916T011252Z
LAST-MODIFIED:20190916T011252Z
UID:3692-1501833600-1501866000@www.shishukunj.in
SUMMARY:Hindi Poetry Recitation Classes VI - VIII
DESCRIPTION:Hindi Poetry Recitation Classes VI – VIII
URL:https://www.shishukunj.in/jhalaria-campus/event/hindi-poetry-recitation-classes-vi-viii/
CATEGORIES:Calendar
END:VEVENT
END:VCALENDAR