BEGIN:VCALENDAR
VERSION:2.0
PRODID:-//Shishukunj - ECPv5.12.2//NONSGML v1.0//EN
CALSCALE:GREGORIAN
METHOD:PUBLISH
X-WR-CALNAME:Shishukunj
X-ORIGINAL-URL:https://www.shishukunj.in/jhalaria-campus
X-WR-CALDESC:Events for Shishukunj
BEGIN:VTIMEZONE
TZID:UTC
BEGIN:STANDARD
TZOFFSETFROM:+0000
TZOFFSETTO:+0000
TZNAME:UTC
DTSTART:20170101T000000
END:STANDARD
END:VTIMEZONE
BEGIN:VEVENT
DTSTART;TZID=UTC:20170826T080000
DTEND;TZID=UTC:20170826T170000
DTSTAMP:20260425T093539
CREATED:20190916T012021Z
LAST-MODIFIED:20190916T012021Z
UID:3706-1503734400-1503766800@www.shishukunj.in
SUMMARY:Wall Magazine Classes IX - XII
DESCRIPTION:Wall Magazine Classes IX – XII
URL:https://www.shishukunj.in/jhalaria-campus/event/wall-magazine-classes-ix-xii-3/
CATEGORIES:Calendar
END:VEVENT
END:VCALENDAR