BEGIN:VCALENDAR
VERSION:2.0
PRODID:-//Shishukunj - ECPv5.12.2//NONSGML v1.0//EN
CALSCALE:GREGORIAN
METHOD:PUBLISH
X-WR-CALNAME:Shishukunj
X-ORIGINAL-URL:https://www.shishukunj.in/jhalaria-campus
X-WR-CALDESC:Events for Shishukunj
BEGIN:VTIMEZONE
TZID:UTC
BEGIN:STANDARD
TZOFFSETFROM:+0000
TZOFFSETTO:+0000
TZNAME:UTC
DTSTART:20170101T000000
END:STANDARD
END:VTIMEZONE
BEGIN:VEVENT
DTSTART;TZID=UTC:20170918T080000
DTEND;TZID=UTC:20170923T170000
DTSTAMP:20260425T073911
CREATED:20190916T013539Z
LAST-MODIFIED:20190916T013539Z
UID:3722-1505721600-1506186000@www.shishukunj.in
SUMMARY:Half Yealy Examinations for Classes VI to X
DESCRIPTION:Half Yealy Examinations for Classes VI to X
URL:https://www.shishukunj.in/jhalaria-campus/event/half-yealy-examinations-for-classes-vi-to-x-2/
CATEGORIES:Calendar
END:VEVENT
BEGIN:VEVENT
DTSTART;TZID=UTC:20170918T080000
DTEND;TZID=UTC:20170923T170000
DTSTAMP:20260425T073911
CREATED:20190916T013606Z
LAST-MODIFIED:20190916T013606Z
UID:3724-1505721600-1506186000@www.shishukunj.in
SUMMARY:Second Major Assessment : Classes XI & XII
DESCRIPTION:Second Major Assessment : Classes XI & XII
URL:https://www.shishukunj.in/jhalaria-campus/event/second-major-assessment-classes-xi-xii-2/
CATEGORIES:Calendar
END:VEVENT
END:VCALENDAR