BEGIN:VCALENDAR
VERSION:2.0
PRODID:-//Shishukunj - ECPv5.12.2//NONSGML v1.0//EN
CALSCALE:GREGORIAN
METHOD:PUBLISH
X-WR-CALNAME:Shishukunj
X-ORIGINAL-URL:https://www.shishukunj.in/jhalaria-campus
X-WR-CALDESC:Events for Shishukunj
BEGIN:VTIMEZONE
TZID:UTC
BEGIN:STANDARD
TZOFFSETFROM:+0000
TZOFFSETTO:+0000
TZNAME:UTC
DTSTART:20170101T000000
END:STANDARD
END:VTIMEZONE
BEGIN:VEVENT
DTSTART;TZID=UTC:20171013T080000
DTEND;TZID=UTC:20171013T170000
DTSTAMP:20260425T055716
CREATED:20190916T014822Z
LAST-MODIFIED:20190916T014956Z
UID:3741-1507881600-1507914000@www.shishukunj.in
SUMMARY:Shri Jugrajji Mehta English Word Power Competition - Inter School Classes VII - VIII
DESCRIPTION:Shri Jugrajji Mehta English Word Power Competition – Inter School Classes VII – VIII
URL:https://www.shishukunj.in/jhalaria-campus/event/shri-jugrajji-mehta-english-word-power-competition-inter-school-classes-vii-viii/
CATEGORIES:Calendar
END:VEVENT
END:VCALENDAR