BEGIN:VCALENDAR
VERSION:2.0
PRODID:-//Shishukunj - ECPv5.12.2//NONSGML v1.0//EN
CALSCALE:GREGORIAN
METHOD:PUBLISH
X-WR-CALNAME:Shishukunj
X-ORIGINAL-URL:https://www.shishukunj.in/jhalaria-campus
X-WR-CALDESC:Events for Shishukunj
BEGIN:VTIMEZONE
TZID:UTC
BEGIN:STANDARD
TZOFFSETFROM:+0000
TZOFFSETTO:+0000
TZNAME:UTC
DTSTART:20170101T000000
END:STANDARD
END:VTIMEZONE
BEGIN:VEVENT
DTSTART;TZID=UTC:20171112T080000
DTEND;TZID=UTC:20171112T170000
DTSTAMP:20260425T041941
CREATED:20190916T022027Z
LAST-MODIFIED:20190916T022027Z
UID:3756-1510473600-1510506000@www.shishukunj.in
SUMMARY:Utsav
DESCRIPTION:Utsav
URL:https://www.shishukunj.in/jhalaria-campus/event/utsav-4/
CATEGORIES:Calendar
END:VEVENT
END:VCALENDAR