BEGIN:VCALENDAR
VERSION:2.0
PRODID:-//Shishukunj - ECPv5.12.2//NONSGML v1.0//EN
CALSCALE:GREGORIAN
METHOD:PUBLISH
X-WR-CALNAME:Shishukunj
X-ORIGINAL-URL:https://www.shishukunj.in/jhalaria-campus
X-WR-CALDESC:Events for Shishukunj
BEGIN:VTIMEZONE
TZID:UTC
BEGIN:STANDARD
TZOFFSETFROM:+0000
TZOFFSETTO:+0000
TZNAME:UTC
DTSTART:20180101T000000
END:STANDARD
END:VTIMEZONE
BEGIN:VEVENT
DTSTART;TZID=UTC:20180921T080000
DTEND;TZID=UTC:20180921T170000
DTSTAMP:20260424T124153
CREATED:20190916T055831Z
LAST-MODIFIED:20190916T055831Z
UID:3980-1537516800-1537549200@www.shishukunj.in
SUMMARY:Muharram
DESCRIPTION:Muharram
URL:https://www.shishukunj.in/jhalaria-campus/event/muharram-4/
CATEGORIES:Calendar
END:VEVENT
END:VCALENDAR