BEGIN:VCALENDAR
VERSION:2.0
PRODID:-//Shishukunj - ECPv5.12.2//NONSGML v1.0//EN
CALSCALE:GREGORIAN
METHOD:PUBLISH
X-WR-CALNAME:Shishukunj
X-ORIGINAL-URL:https://www.shishukunj.in/jhalaria-campus
X-WR-CALDESC:Events for Shishukunj
BEGIN:VTIMEZONE
TZID:UTC
BEGIN:STANDARD
TZOFFSETFROM:+0000
TZOFFSETTO:+0000
TZNAME:UTC
DTSTART:20180101T000000
END:STANDARD
END:VTIMEZONE
BEGIN:VEVENT
DTSTART;TZID=UTC:20181105T080000
DTEND;TZID=UTC:20181110T170000
DTSTAMP:20260424T094115
CREATED:20190916T063142Z
LAST-MODIFIED:20190916T063142Z
UID:4017-1541404800-1541869200@www.shishukunj.in
SUMMARY:Diwali Break
DESCRIPTION:Diwali Break
URL:https://www.shishukunj.in/jhalaria-campus/event/diwali-break-5/
CATEGORIES:Calendar
END:VEVENT
END:VCALENDAR