BEGIN:VCALENDAR
VERSION:2.0
PRODID:-//Shishukunj - ECPv5.12.2//NONSGML v1.0//EN
CALSCALE:GREGORIAN
METHOD:PUBLISH
X-WR-CALNAME:Shishukunj
X-ORIGINAL-URL:https://www.shishukunj.in/jhalaria-campus
X-WR-CALDESC:Events for Shishukunj
BEGIN:VTIMEZONE
TZID:UTC
BEGIN:STANDARD
TZOFFSETFROM:+0000
TZOFFSETTO:+0000
TZNAME:UTC
DTSTART:20190101T000000
END:STANDARD
END:VTIMEZONE
BEGIN:VEVENT
DTSTART;TZID=UTC:20190214T080000
DTEND;TZID=UTC:20190228T170000
DTSTAMP:20260424T045910
CREATED:20190916T071016Z
LAST-MODIFIED:20190916T071016Z
UID:4069-1550131200-1551373200@www.shishukunj.in
SUMMARY:Annual Exam ( VI - VIII )
DESCRIPTION:Annual Exam ( VI – VIII )
URL:https://www.shishukunj.in/jhalaria-campus/event/annual-exam-vi-viii/
CATEGORIES:Calendar
END:VEVENT
END:VCALENDAR