BEGIN:VCALENDAR
VERSION:2.0
PRODID:-//Shishukunj - ECPv5.12.2//NONSGML v1.0//EN
CALSCALE:GREGORIAN
METHOD:PUBLISH
X-WR-CALNAME:Shishukunj
X-ORIGINAL-URL:https://www.shishukunj.in/jhalaria-campus
X-WR-CALDESC:Events for Shishukunj
BEGIN:VTIMEZONE
TZID:UTC
BEGIN:STANDARD
TZOFFSETFROM:+0000
TZOFFSETTO:+0000
TZNAME:UTC
DTSTART:20190101T000000
END:STANDARD
END:VTIMEZONE
BEGIN:VEVENT
DTSTART;TZID=UTC:20190304T080000
DTEND;TZID=UTC:20190304T170000
DTSTAMP:20260424T031702
CREATED:20190916T073121Z
LAST-MODIFIED:20190916T073121Z
UID:4073-1551686400-1551718800@www.shishukunj.in
SUMMARY:Mahashivratri
DESCRIPTION:Mahashivratri
URL:https://www.shishukunj.in/jhalaria-campus/event/mahashivratri-4/
CATEGORIES:Calendar
END:VEVENT
END:VCALENDAR