BEGIN:VCALENDAR
VERSION:2.0
PRODID:-//Shishukunj - ECPv5.12.2//NONSGML v1.0//EN
CALSCALE:GREGORIAN
METHOD:PUBLISH
X-WR-CALNAME:Shishukunj
X-ORIGINAL-URL:https://www.shishukunj.in/jhalaria-campus
X-WR-CALDESC:Events for Shishukunj
BEGIN:VTIMEZONE
TZID:UTC
BEGIN:STANDARD
TZOFFSETFROM:+0000
TZOFFSETTO:+0000
TZNAME:UTC
DTSTART:20190101T000000
END:STANDARD
END:VTIMEZONE
BEGIN:VEVENT
DTSTART;TZID=UTC:20190417T080000
DTEND;TZID=UTC:20190417T170000
DTSTAMP:20260424T014119
CREATED:20190916T073703Z
LAST-MODIFIED:20190916T073703Z
UID:4083-1555488000-1555520400@www.shishukunj.in
SUMMARY:Mahavir Jayanti
DESCRIPTION:Mahavir Jayanti
URL:https://www.shishukunj.in/jhalaria-campus/event/mahavir-jayanti-4/
CATEGORIES:Calendar
END:VEVENT
END:VCALENDAR