BEGIN:VCALENDAR
VERSION:2.0
PRODID:-//Shishukunj - ECPv5.12.2//NONSGML v1.0//EN
CALSCALE:GREGORIAN
METHOD:PUBLISH
X-WR-CALNAME:Shishukunj
X-ORIGINAL-URL:https://www.shishukunj.in/jhalaria-campus
X-WR-CALDESC:Events for Shishukunj
BEGIN:VTIMEZONE
TZID:UTC
BEGIN:STANDARD
TZOFFSETFROM:+0000
TZOFFSETTO:+0000
TZNAME:UTC
DTSTART:20190101T000000
END:STANDARD
END:VTIMEZONE
BEGIN:VEVENT
DTSTART;TZID=UTC:20190501T080000
DTEND;TZID=UTC:20190623T170000
DTSTAMP:20260424T000743
CREATED:20190916T073900Z
LAST-MODIFIED:20190916T074134Z
UID:4087-1556697600-1561309200@www.shishukunj.in
SUMMARY:(VI - IX) Summer Break
DESCRIPTION:(VI – IX) Summer Break
URL:https://www.shishukunj.in/jhalaria-campus/event/vi-ix-summer-break/
CATEGORIES:Calendar
END:VEVENT
BEGIN:VEVENT
DTSTART;TZID=UTC:20190501T080000
DTEND;TZID=UTC:20190623T170000
DTSTAMP:20260424T000743
CREATED:20190916T073932Z
LAST-MODIFIED:20190916T074013Z
UID:4089-1556697600-1561309200@www.shishukunj.in
SUMMARY:(X - XII) Summer Break
DESCRIPTION:(X – XII) Summer Break
URL:https://www.shishukunj.in/jhalaria-campus/event/x-xii-summer-break/
CATEGORIES:Calendar
END:VEVENT
END:VCALENDAR