BEGIN:VCALENDAR
VERSION:2.0
PRODID:-//Shishukunj - ECPv5.12.2//NONSGML v1.0//EN
CALSCALE:GREGORIAN
METHOD:PUBLISH
X-WR-CALNAME:Shishukunj
X-ORIGINAL-URL:https://www.shishukunj.in/jhalaria-campus
X-WR-CALDESC:Events for Shishukunj
BEGIN:VTIMEZONE
TZID:UTC
BEGIN:STANDARD
TZOFFSETFROM:+0000
TZOFFSETTO:+0000
TZNAME:UTC
DTSTART:20190101T000000
END:STANDARD
END:VTIMEZONE
BEGIN:VEVENT
DTSTART;TZID=UTC:20190624T080000
DTEND;TZID=UTC:20190624T170000
DTSTAMP:20260423T222157
CREATED:20190916T074235Z
LAST-MODIFIED:20190916T074235Z
UID:4091-1561363200-1561395600@www.shishukunj.in
SUMMARY:School Reopens (Sr.KG - XII)
DESCRIPTION:School Reopens (Sr.KG – XII)
URL:https://www.shishukunj.in/jhalaria-campus/event/school-reopens-sr-kg-xii/
CATEGORIES:Calendar
END:VEVENT
END:VCALENDAR