BEGIN:VCALENDAR
VERSION:2.0
PRODID:-//Shishukunj - ECPv5.12.2//NONSGML v1.0//EN
CALSCALE:GREGORIAN
METHOD:PUBLISH
X-WR-CALNAME:Shishukunj
X-ORIGINAL-URL:https://www.shishukunj.in/jhalaria-campus
X-WR-CALDESC:Events for Shishukunj
BEGIN:VTIMEZONE
TZID:UTC
BEGIN:STANDARD
TZOFFSETFROM:+0000
TZOFFSETTO:+0000
TZNAME:UTC
DTSTART:20190101T000000
END:STANDARD
END:VTIMEZONE
BEGIN:VEVENT
DTSTART;TZID=UTC:20190815T080000
DTEND;TZID=UTC:20190815T170000
DTSTAMP:20260423T190842
CREATED:20190916T074647Z
LAST-MODIFIED:20190916T074647Z
UID:4099-1565856000-1565888400@www.shishukunj.in
SUMMARY:Independence Day
DESCRIPTION:Independence Day
URL:https://www.shishukunj.in/jhalaria-campus/event/independence-day-4/
CATEGORIES:Calendar
END:VEVENT
BEGIN:VEVENT
DTSTART;TZID=UTC:20190815T080000
DTEND;TZID=UTC:20190815T170000
DTSTAMP:20260423T190842
CREATED:20190916T074841Z
LAST-MODIFIED:20190916T074841Z
UID:4101-1565856000-1565888400@www.shishukunj.in
SUMMARY:Raksha Bandhan
DESCRIPTION:Raksha Bandhan
URL:https://www.shishukunj.in/jhalaria-campus/event/raksha-bandhan-2/
CATEGORIES:Calendar
END:VEVENT
END:VCALENDAR