BEGIN:VCALENDAR
VERSION:2.0
PRODID:-//Shishukunj - ECPv5.12.2//NONSGML v1.0//EN
CALSCALE:GREGORIAN
METHOD:PUBLISH
X-WR-CALNAME:Shishukunj
X-ORIGINAL-URL:https://www.shishukunj.in/jhalaria-campus
X-WR-CALDESC:Events for Shishukunj
BEGIN:VTIMEZONE
TZID:UTC
BEGIN:STANDARD
TZOFFSETFROM:+0000
TZOFFSETTO:+0000
TZNAME:UTC
DTSTART:20190101T000000
END:STANDARD
END:VTIMEZONE
BEGIN:VEVENT
DTSTART;TZID=UTC:20190823T080000
DTEND;TZID=UTC:20190823T170000
DTSTAMP:20260423T190658
CREATED:20190916T075022Z
LAST-MODIFIED:20190916T075022Z
UID:4103-1566547200-1566579600@www.shishukunj.in
SUMMARY:Janamashtami
DESCRIPTION:Janamashtami
URL:https://www.shishukunj.in/jhalaria-campus/event/janamashtami-3/
CATEGORIES:Calendar
END:VEVENT
END:VCALENDAR