BEGIN:VCALENDAR
VERSION:2.0
PRODID:-//Shishukunj - ECPv5.12.2//NONSGML v1.0//EN
CALSCALE:GREGORIAN
METHOD:PUBLISH
X-WR-CALNAME:Shishukunj
X-ORIGINAL-URL:https://www.shishukunj.in/jhalaria-campus
X-WR-CALDESC:Events for Shishukunj
BEGIN:VTIMEZONE
TZID:UTC
BEGIN:STANDARD
TZOFFSETFROM:+0000
TZOFFSETTO:+0000
TZNAME:UTC
DTSTART:20190101T000000
END:STANDARD
END:VTIMEZONE
BEGIN:VEVENT
DTSTART;TZID=UTC:20190913T080000
DTEND;TZID=UTC:20190913T170000
DTSTAMP:20260423T173002
CREATED:20190913T084145Z
LAST-MODIFIED:20190913T084145Z
UID:3612-1568361600-1568394000@www.shishukunj.in
SUMMARY:* Final Assessment for Class XI Concludes
DESCRIPTION:* Final Assessment for Class XI Concludes
URL:https://www.shishukunj.in/jhalaria-campus/event/final-assessment-for-class-xi-concludes-2/
CATEGORIES:Calendar
END:VEVENT
BEGIN:VEVENT
DTSTART;TZID=UTC:20190913T080000
DTEND;TZID=UTC:20190913T170000
DTSTAMP:20260423T173002
CREATED:20190916T075448Z
LAST-MODIFIED:20190916T075448Z
UID:4117-1568361600-1568394000@www.shishukunj.in
SUMMARY:Next day of Anant Chaturdashi
DESCRIPTION:Next day of Anant Chaturdashi
URL:https://www.shishukunj.in/jhalaria-campus/event/next-day-of-anant-chaturdashi/
CATEGORIES:Calendar
END:VEVENT
END:VCALENDAR