BEGIN:VCALENDAR
VERSION:2.0
PRODID:-//Shishukunj - ECPv5.12.2//NONSGML v1.0//EN
CALSCALE:GREGORIAN
METHOD:PUBLISH
X-WR-CALNAME:Shishukunj
X-ORIGINAL-URL:https://www.shishukunj.in/jhalaria-campus
X-WR-CALDESC:Events for Shishukunj
BEGIN:VTIMEZONE
TZID:UTC
BEGIN:STANDARD
TZOFFSETFROM:+0000
TZOFFSETTO:+0000
TZNAME:UTC
DTSTART:20190101T000000
END:STANDARD
END:VTIMEZONE
BEGIN:VEVENT
DTSTART;TZID=UTC:20191202T080000
DTEND;TZID=UTC:20191211T170000
DTSTAMP:20260423T122804
CREATED:20190916T080936Z
LAST-MODIFIED:20190916T080936Z
UID:4131-1575273600-1576083600@www.shishukunj.in
SUMMARY:Pre Board I ( XII Com. & Hum )
DESCRIPTION:Pre Board I ( XII Com. & Hum )
URL:https://www.shishukunj.in/jhalaria-campus/event/pre-board-i-xii-com-hum/
CATEGORIES:Calendar
END:VEVENT
END:VCALENDAR