BEGIN:VCALENDAR
VERSION:2.0
PRODID:-//Shishukunj - ECPv5.12.2//NONSGML v1.0//EN
CALSCALE:GREGORIAN
METHOD:PUBLISH
X-WR-CALNAME:Shishukunj
X-ORIGINAL-URL:https://www.shishukunj.in/jhalaria-campus
X-WR-CALDESC:Events for Shishukunj
BEGIN:VTIMEZONE
TZID:UTC
BEGIN:STANDARD
TZOFFSETFROM:+0000
TZOFFSETTO:+0000
TZNAME:UTC
DTSTART:20200101T000000
END:STANDARD
END:VTIMEZONE
BEGIN:VEVENT
DTSTART;TZID=UTC:20200215T080000
DTEND;TZID=UTC:20200225T170000
DTSTAMP:20260423T091456
CREATED:20190917T004243Z
LAST-MODIFIED:20190917T004243Z
UID:4146-1581753600-1582650000@www.shishukunj.in
SUMMARY:Final Assessment (VI - VIII)
DESCRIPTION:Final Assessment (VI – VIII)
URL:https://www.shishukunj.in/jhalaria-campus/event/final-assessment-vi-viii/
CATEGORIES:Calendar
END:VEVENT
END:VCALENDAR