BEGIN:VCALENDAR
VERSION:2.0
PRODID:-//Shishukunj - ECPv5.12.2//NONSGML v1.0//EN
CALSCALE:GREGORIAN
METHOD:PUBLISH
X-WR-CALNAME:Shishukunj
X-ORIGINAL-URL:https://www.shishukunj.in/jhalaria-campus
X-WR-CALDESC:Events for Shishukunj
BEGIN:VTIMEZONE
TZID:UTC
BEGIN:STANDARD
TZOFFSETFROM:+0000
TZOFFSETTO:+0000
TZNAME:UTC
DTSTART:20200101T000000
END:STANDARD
END:VTIMEZONE
BEGIN:VEVENT
DTSTART;TZID=UTC:20200310T080000
DTEND;TZID=UTC:20200310T170000
DTSTAMP:20260423T073847
CREATED:20190917T005557Z
LAST-MODIFIED:20190917T005557Z
UID:4150-1583827200-1583859600@www.shishukunj.in
SUMMARY:Holi
DESCRIPTION:Holi
URL:https://www.shishukunj.in/jhalaria-campus/event/holi-5/
CATEGORIES:Calendar
END:VEVENT
END:VCALENDAR