BEGIN:VCALENDAR
VERSION:2.0
PRODID:-//Shishukunj - ECPv5.12.2//NONSGML v1.0//EN
CALSCALE:GREGORIAN
METHOD:PUBLISH
X-WR-CALNAME:Shishukunj
X-ORIGINAL-URL:https://www.shishukunj.in/jhalaria-campus
X-WR-CALDESC:Events for Shishukunj
BEGIN:VTIMEZONE
TZID:UTC
BEGIN:STANDARD
TZOFFSETFROM:+0000
TZOFFSETTO:+0000
TZNAME:UTC
DTSTART:20200101T000000
END:STANDARD
END:VTIMEZONE
BEGIN:VEVENT
DTSTART;TZID=UTC:20200314T133000
DTEND;TZID=UTC:20200314T143000
DTSTAMP:20260423T073451
CREATED:20190917T005954Z
LAST-MODIFIED:20190918T045232Z
UID:4152-1584192600-1584196200@www.shishukunj.in
SUMMARY:Rang Panchami
DESCRIPTION:Rang Panchami
URL:https://www.shishukunj.in/jhalaria-campus/event/rang-panchami-4/
CATEGORIES:Calendar
END:VEVENT
END:VCALENDAR