BEGIN:VCALENDAR
VERSION:2.0
PRODID:-//Shishukunj - ECPv5.12.2//NONSGML v1.0//EN
CALSCALE:GREGORIAN
METHOD:PUBLISH
X-WR-CALNAME:Shishukunj
X-ORIGINAL-URL:https://www.shishukunj.in/jhalaria-campus
X-WR-CALDESC:Events for Shishukunj
BEGIN:VTIMEZONE
TZID:Asia/Kolkata
BEGIN:STANDARD
TZOFFSETFROM:+0530
TZOFFSETTO:+0530
TZNAME:IST
DTSTART:20200101T000000
END:STANDARD
END:VTIMEZONE
BEGIN:VEVENT
DTSTART;VALUE=DATE:20200803
DTEND;VALUE=DATE:20200804
DTSTAMP:20260422T225511
CREATED:20200728T144834Z
LAST-MODIFIED:20200728T144834Z
UID:6530-1596412800-1596499199@www.shishukunj.in
SUMMARY:Raksha Bandhan
DESCRIPTION:
URL:https://www.shishukunj.in/jhalaria-campus/event/raksha-bandhan-3/
CATEGORIES:Calendar
END:VEVENT
END:VCALENDAR