BEGIN:VCALENDAR
VERSION:2.0
PRODID:-//Shishukunj - ECPv5.12.2//NONSGML v1.0//EN
CALSCALE:GREGORIAN
METHOD:PUBLISH
X-WR-CALNAME:Shishukunj
X-ORIGINAL-URL:https://www.shishukunj.in/jhalaria-campus
X-WR-CALDESC:Events for Shishukunj
BEGIN:VTIMEZONE
TZID:Asia/Kolkata
BEGIN:STANDARD
TZOFFSETFROM:+0530
TZOFFSETTO:+0530
TZNAME:IST
DTSTART:20200101T000000
END:STANDARD
END:VTIMEZONE
BEGIN:VEVENT
DTSTART;VALUE=DATE:20200815
DTEND;VALUE=DATE:20200816
DTSTAMP:20260422T230248
CREATED:20200728T145017Z
LAST-MODIFIED:20200728T145017Z
UID:6534-1597449600-1597535999@www.shishukunj.in
SUMMARY:Independence  Day
DESCRIPTION:
URL:https://www.shishukunj.in/jhalaria-campus/event/independence-day-5/
CATEGORIES:Calendar
END:VEVENT
END:VCALENDAR