BEGIN:VCALENDAR
VERSION:2.0
PRODID:-//Shishukunj - ECPv5.12.2//NONSGML v1.0//EN
CALSCALE:GREGORIAN
METHOD:PUBLISH
X-WR-CALNAME:Shishukunj
X-ORIGINAL-URL:https://www.shishukunj.in/jhalaria-campus
X-WR-CALDESC:Events for Shishukunj
BEGIN:VTIMEZONE
TZID:Asia/Kolkata
BEGIN:STANDARD
TZOFFSETFROM:+0530
TZOFFSETTO:+0530
TZNAME:IST
DTSTART:20200101T000000
END:STANDARD
END:VTIMEZONE
BEGIN:VEVENT
DTSTART;VALUE=DATE:20201018
DTEND;VALUE=DATE:20201019
DTSTAMP:20260422T193056
CREATED:20201008T085947Z
LAST-MODIFIED:20201008T085947Z
UID:6897-1602979200-1603065599@www.shishukunj.in
SUMMARY:Inauguration of Shishukunj Sports Complex
DESCRIPTION:
URL:https://www.shishukunj.in/jhalaria-campus/event/inauguration-of-shishukunj-sports-complex/
CATEGORIES:Calendar
END:VEVENT
END:VCALENDAR