BEGIN:VCALENDAR
VERSION:2.0
PRODID:-//Shishukunj - ECPv5.12.2//NONSGML v1.0//EN
CALSCALE:GREGORIAN
METHOD:PUBLISH
X-WR-CALNAME:Shishukunj
X-ORIGINAL-URL:https://www.shishukunj.in/jhalaria-campus
X-WR-CALDESC:Events for Shishukunj
BEGIN:VTIMEZONE
TZID:Asia/Kolkata
BEGIN:STANDARD
TZOFFSETFROM:+0530
TZOFFSETTO:+0530
TZNAME:IST
DTSTART:20200101T000000
END:STANDARD
END:VTIMEZONE
BEGIN:VEVENT
DTSTART;VALUE=DATE:20201024
DTEND;VALUE=DATE:20201027
DTSTAMP:20260422T193037
CREATED:20200729T114403Z
LAST-MODIFIED:20201020T151658Z
UID:6537-1603497600-1603756799@www.shishukunj.in
SUMMARY:Dussehra Break
DESCRIPTION:
URL:https://www.shishukunj.in/jhalaria-campus/event/dussehra-break-4/
CATEGORIES:Calendar
END:VEVENT
END:VCALENDAR