BEGIN:VCALENDAR
VERSION:2.0
PRODID:-//Shishukunj - ECPv5.12.2//NONSGML v1.0//EN
CALSCALE:GREGORIAN
METHOD:PUBLISH
X-WR-CALNAME:Shishukunj
X-ORIGINAL-URL:https://www.shishukunj.in/jhalaria-campus
X-WR-CALDESC:Events for Shishukunj
BEGIN:VTIMEZONE
TZID:Asia/Kolkata
BEGIN:STANDARD
TZOFFSETFROM:+0530
TZOFFSETTO:+0530
TZNAME:IST
DTSTART:20200101T000000
END:STANDARD
END:VTIMEZONE
BEGIN:VEVENT
DTSTART;VALUE=DATE:20201030
DTEND;VALUE=DATE:20201031
DTSTAMP:20260422T174952
CREATED:20200731T121834Z
LAST-MODIFIED:20201023T170225Z
UID:6548-1604016000-1604102399@www.shishukunj.in
SUMMARY:Milad ul Nabi
DESCRIPTION:
URL:https://www.shishukunj.in/jhalaria-campus/event/milad-ul-nabi/
CATEGORIES:Calendar
END:VEVENT
END:VCALENDAR