BEGIN:VCALENDAR
VERSION:2.0
PRODID:-//Shishukunj - ECPv5.12.2//NONSGML v1.0//EN
CALSCALE:GREGORIAN
METHOD:PUBLISH
X-WR-CALNAME:Shishukunj
X-ORIGINAL-URL:https://www.shishukunj.in/jhalaria-campus
X-WR-CALDESC:Events for Shishukunj
BEGIN:VTIMEZONE
TZID:Asia/Kolkata
BEGIN:STANDARD
TZOFFSETFROM:+0530
TZOFFSETTO:+0530
TZNAME:IST
DTSTART:20200101T000000
END:STANDARD
END:VTIMEZONE
BEGIN:VEVENT
DTSTART;VALUE=DATE:20201216
DTEND;VALUE=DATE:20201229
DTSTAMP:20260422T163431
CREATED:20201031T084205Z
LAST-MODIFIED:20201105T154908Z
UID:7132-1608076800-1609199999@www.shishukunj.in
SUMMARY:Pre Board I (Class X and XII) *
DESCRIPTION:
URL:https://www.shishukunj.in/jhalaria-campus/event/pre-board-i-class-x/
CATEGORIES:Calendar
END:VEVENT
BEGIN:VEVENT
DTSTART;VALUE=DATE:20201225
DTEND;VALUE=DATE:20201228
DTSTAMP:20260422T163431
CREATED:20201215T073215Z
LAST-MODIFIED:20201215T073215Z
UID:7538-1608854400-1609113599@www.shishukunj.in
SUMMARY:Winter Vacation ( VI - IX & XI )
DESCRIPTION:
URL:https://www.shishukunj.in/jhalaria-campus/event/winter-vacation-vi-ix-xi/
CATEGORIES:Calendar
END:VEVENT
END:VCALENDAR