BEGIN:VCALENDAR
VERSION:2.0
PRODID:-//Shishukunj - ECPv5.12.2//NONSGML v1.0//EN
CALSCALE:GREGORIAN
METHOD:PUBLISH
X-WR-CALNAME:Shishukunj
X-ORIGINAL-URL:https://www.shishukunj.in/jhalaria-campus
X-WR-CALDESC:Events for Shishukunj
BEGIN:VTIMEZONE
TZID:Asia/Kolkata
BEGIN:STANDARD
TZOFFSETFROM:+0530
TZOFFSETTO:+0530
TZNAME:IST
DTSTART:20210101T000000
END:STANDARD
END:VTIMEZONE
BEGIN:VEVENT
DTSTART;VALUE=DATE:20210117
DTEND;VALUE=DATE:20210118
DTSTAMP:20260422T145814
CREATED:20201013T142348Z
LAST-MODIFIED:20201013T142348Z
UID:7006-1610841600-1610927999@www.shishukunj.in
SUMMARY:Indian Olympiad Qualifier in Junior Science (IOQJS) (VIII - IX)
DESCRIPTION:
URL:https://www.shishukunj.in/jhalaria-campus/event/indian-olympiad-qualifier-in-junior-science-ioqjs-viii-ix/
CATEGORIES:Calendar
END:VEVENT
END:VCALENDAR