BEGIN:VCALENDAR
VERSION:2.0
PRODID:-//Shishukunj - ECPv5.12.2//NONSGML v1.0//EN
CALSCALE:GREGORIAN
METHOD:PUBLISH
X-WR-CALNAME:Shishukunj
X-ORIGINAL-URL:https://www.shishukunj.in/jhalaria-campus
X-WR-CALDESC:Events for Shishukunj
BEGIN:VTIMEZONE
TZID:Asia/Kolkata
BEGIN:STANDARD
TZOFFSETFROM:+0530
TZOFFSETTO:+0530
TZNAME:IST
DTSTART:20210101T000000
END:STANDARD
END:VTIMEZONE
BEGIN:VEVENT
DTSTART;VALUE=DATE:20210207
DTEND;VALUE=DATE:20210208
DTSTAMP:20260422T131113
CREATED:20201013T142746Z
LAST-MODIFIED:20201105T140038Z
UID:7012-1612656000-1612742399@www.shishukunj.in
SUMMARY:Indian Olympiad Qualifier in Physics (IOQP) (X - XII)
DESCRIPTION:
URL:https://www.shishukunj.in/jhalaria-campus/event/indian-olympiad-qualifier-in-physics-ioqp/
CATEGORIES:Calendar
END:VEVENT
BEGIN:VEVENT
DTSTART;VALUE=DATE:20210207
DTEND;VALUE=DATE:20210208
DTSTAMP:20260422T131113
CREATED:20201013T142850Z
LAST-MODIFIED:20201013T142850Z
UID:7014-1612656000-1612742399@www.shishukunj.in
SUMMARY:Indian Olympiad Qualifier in Biology (IOQB) (X-XII)
DESCRIPTION:
URL:https://www.shishukunj.in/jhalaria-campus/event/indian-olympiad-qualifier-in-biology-ioqb-x-xii/
CATEGORIES:Calendar
END:VEVENT
END:VCALENDAR