BEGIN:VCALENDAR
VERSION:2.0
PRODID:-//Shishukunj - ECPv5.12.2//NONSGML v1.0//EN
CALSCALE:GREGORIAN
METHOD:PUBLISH
X-WR-CALNAME:Shishukunj
X-ORIGINAL-URL:https://www.shishukunj.in/jhalaria-campus
X-WR-CALDESC:Events for Shishukunj
BEGIN:VTIMEZONE
TZID:Asia/Kolkata
BEGIN:STANDARD
TZOFFSETFROM:+0530
TZOFFSETTO:+0530
TZNAME:IST
DTSTART:20210101T000000
END:STANDARD
END:VTIMEZONE
BEGIN:VEVENT
DTSTART;VALUE=DATE:20210421
DTEND;VALUE=DATE:20210422
DTSTAMP:20260422T093843
CREATED:20210118T124229Z
LAST-MODIFIED:20210118T124229Z
UID:7851-1618963200-1619049599@www.shishukunj.in
SUMMARY:Ram Navami
DESCRIPTION:
URL:https://www.shishukunj.in/jhalaria-campus/event/ram-navami/
CATEGORIES:Calendar
END:VEVENT
END:VCALENDAR