BEGIN:VCALENDAR
VERSION:2.0
PRODID:-//Shishukunj - ECPv5.12.2//NONSGML v1.0//EN
CALSCALE:GREGORIAN
METHOD:PUBLISH
X-WR-CALNAME:Shishukunj
X-ORIGINAL-URL:https://www.shishukunj.in/jhalaria-campus
X-WR-CALDESC:Events for Shishukunj
BEGIN:VTIMEZONE
TZID:Asia/Kolkata
BEGIN:STANDARD
TZOFFSETFROM:+0530
TZOFFSETTO:+0530
TZNAME:IST
DTSTART:20210101T000000
END:STANDARD
END:VTIMEZONE
BEGIN:VEVENT
DTSTART;VALUE=DATE:20210910
DTEND;VALUE=DATE:20210911
DTSTAMP:20260422T010327
CREATED:20210118T125213Z
LAST-MODIFIED:20210118T125213Z
UID:7861-1631232000-1631318399@www.shishukunj.in
SUMMARY:Ganesh Chaturthi
DESCRIPTION:
URL:https://www.shishukunj.in/jhalaria-campus/event/ganesh-chaturthi-7/
CATEGORIES:Calendar
END:VEVENT
END:VCALENDAR