BEGIN:VCALENDAR
VERSION:2.0
PRODID:-//Shishukunj - ECPv5.12.2//NONSGML v1.0//EN
CALSCALE:GREGORIAN
METHOD:PUBLISH
X-WR-CALNAME:Shishukunj
X-ORIGINAL-URL:https://www.shishukunj.in/jhalaria-campus
X-WR-CALDESC:Events for Shishukunj
BEGIN:VTIMEZONE
TZID:Asia/Kolkata
BEGIN:STANDARD
TZOFFSETFROM:+0530
TZOFFSETTO:+0530
TZNAME:IST
DTSTART:20210101T000000
END:STANDARD
END:VTIMEZONE
BEGIN:VEVENT
DTSTART;VALUE=DATE:20211225
DTEND;VALUE=DATE:20211226
DTSTAMP:20260421T201732
CREATED:20210118T125900Z
LAST-MODIFIED:20210118T125900Z
UID:7871-1640390400-1640476799@www.shishukunj.in
SUMMARY:Christmas
DESCRIPTION:
URL:https://www.shishukunj.in/jhalaria-campus/event/christmas-4/
CATEGORIES:Calendar
END:VEVENT
END:VCALENDAR