BEGIN:VCALENDAR
VERSION:2.0
PRODID:-//Shishukunj - ECPv5.12.2//NONSGML v1.0//EN
CALSCALE:GREGORIAN
METHOD:PUBLISH
X-WR-CALNAME:Shishukunj
X-ORIGINAL-URL:https://www.shishukunj.in/jhalaria-campus
X-WR-CALDESC:Events for Shishukunj
BEGIN:VTIMEZONE
TZID:Asia/Kolkata
BEGIN:STANDARD
TZOFFSETFROM:+0530
TZOFFSETTO:+0530
TZNAME:IST
DTSTART:20220101T000000
END:STANDARD
END:VTIMEZONE
BEGIN:VEVENT
DTSTART;VALUE=DATE:20220318
DTEND;VALUE=DATE:20220319
DTSTAMP:20260421T153735
CREATED:20210623T165922Z
LAST-MODIFIED:20210623T165922Z
UID:8922-1647561600-1647647999@www.shishukunj.in
SUMMARY:Holi
DESCRIPTION:
URL:https://www.shishukunj.in/jhalaria-campus/event/holi-7/
CATEGORIES:Calendar
END:VEVENT
END:VCALENDAR