BEGIN:VCALENDAR
VERSION:2.0
PRODID:-//Shishukunj - ECPv5.12.2//NONSGML v1.0//EN
CALSCALE:GREGORIAN
METHOD:PUBLISH
X-WR-CALNAME:Shishukunj
X-ORIGINAL-URL:https://www.shishukunj.in/jhalaria-campus
X-WR-CALDESC:Events for Shishukunj
BEGIN:VTIMEZONE
TZID:Asia/Kolkata
BEGIN:STANDARD
TZOFFSETFROM:+0530
TZOFFSETTO:+0530
TZNAME:IST
DTSTART:20220101T000000
END:STANDARD
END:VTIMEZONE
BEGIN:VEVENT
DTSTART;VALUE=DATE:20220415
DTEND;VALUE=DATE:20220416
DTSTAMP:20260421T135156
CREATED:20210623T170322Z
LAST-MODIFIED:20220608T102233Z
UID:8928-1649980800-1650067199@www.shishukunj.in
SUMMARY:Good Friday
DESCRIPTION:desc
URL:https://www.shishukunj.in/jhalaria-campus/event/good-friday-6/
CATEGORIES:Calendar
END:VEVENT
END:VCALENDAR